BEGIN:VCALENDAR
VERSION:2.0
PRODID:spatie/icalendar-generator
DESCRIPTION:Events from Tai Chi Arts Club
X-WR-CALDESC:Events from Tai Chi Arts Club
REFRESH-INTERVAL;VALUE=DURATION:PT1440M
X-PUBLISHED-TTL:PT1440M
BEGIN:VTIMEZONE
TZID:America/Phoenix
BEGIN:STANDARD
DTSTART:20250707T100000Z
TZOFFSETFROM:-0700
TZOFFSETTO:-0700
END:STANDARD
END:VTIMEZONE
BEGIN:VTIMEZONE
TZID:UTC
BEGIN:STANDARD
DTSTART:20250727T162921Z
TZOFFSETFROM:+0000
TZOFFSETTO:+0000
END:STANDARD
END:VTIMEZONE
BEGIN:VEVENT
UID:1234-106
DTSTAMP:20260423T162921Z
SUMMARY:QIgong
LOCATION:
ORGANIZER;CN=Frank Gemma:MAILTO:fpgemma@gmail.com
RRULE:FREQ=WEEKLY;UNTIL=20260501T000000Z
DTSTART;TZID=America/Phoenix:20260403T100000
DTEND;TZID=America/Phoenix:20260403T104500
X-ALT-DESC;FMTTYPE=TEXT/HTML:
CATEGORIES:Qigong
URL;VALUE=URI:https://gvrtaichiarts.com/mc-events/qigong/?mc_id=1234
METHOD:PUBLISH
END:VEVENT
END:VCALENDAR