BEGIN:VCALENDAR
VERSION:2.0
PRODID:spatie/icalendar-generator
DESCRIPTION:Events from Tai Chi Arts Club
X-WR-CALDESC:Events from Tai Chi Arts Club
REFRESH-INTERVAL;VALUE=DURATION:PT1440M
X-PUBLISHED-TTL:PT1440M
BEGIN:VTIMEZONE
TZID:America/Phoenix
BEGIN:STANDARD
DTSTART:20250710T130000Z
TZOFFSETFROM:-0700
TZOFFSETTO:-0700
END:STANDARD
END:VTIMEZONE
BEGIN:VTIMEZONE
TZID:UTC
BEGIN:STANDARD
DTSTART:20250727T175845Z
TZOFFSETFROM:+0000
TZOFFSETTO:+0000
END:STANDARD
END:VTIMEZONE
BEGIN:VEVENT
UID:1280-141
DTSTAMP:20260423T175845Z
SUMMARY:Beginners Yang 24 Form-Session \"D\"
LOCATION:Desert Hills\,  Fitness Room 2980 S. Camino Del Sol
ORGANIZER;CN=Frank Gemma:MAILTO:fpgemma@gmail.com
DTSTART;TZID=America/Phoenix:20260406T130000
DTEND;TZID=America/Phoenix:20260406T140000
X-ALT-DESC;FMTTYPE=TEXT/HTML:This session are for those people that desire 
 assistance in the Yang 24 form.  It is not the intent to teach an individ
 ual the form (there are clsses offered through the GVR that can do that) b
 ut to give more personal attention such that one can comforably attend the
  Experienced sessions.
CATEGORIES:Tai Chi Beginners
URL;VALUE=URI:https://gvrtaichiarts.com/mc-events/beginners-yang-24-form-se
 ssion-d-5/
METHOD:PUBLISH
END:VEVENT
END:VCALENDAR