BEGIN:VCALENDAR
VERSION:2.0
PRODID:spatie/icalendar-generator
DESCRIPTION:Events from Tai Chi Arts Club
X-WR-CALDESC:Events from Tai Chi Arts Club
REFRESH-INTERVAL;VALUE=DURATION:PT1440M
X-PUBLISHED-TTL:PT1440M
BEGIN:VTIMEZONE
TZID:America/Phoenix
BEGIN:STANDARD
DTSTART:20250407T104500Z
TZOFFSETFROM:-0700
TZOFFSETTO:-0700
END:STANDARD
END:VTIMEZONE
BEGIN:VTIMEZONE
TZID:UTC
BEGIN:STANDARD
DTSTART:20250727T212349Z
TZOFFSETFROM:+0000
TZOFFSETTO:+0000
END:STANDARD
END:VTIMEZONE
BEGIN:VEVENT
UID:1459-107
DTSTAMP:20260423T212349Z
SUMMARY:Intermediate Tai Chi Yang 24 Form
LOCATION:Santa Rita Springs\, Anza Room 921 W. Via Fuete
ORGANIZER;CN=Frank Gemma:MAILTO:fpgemma@gmail.com
RRULE:FREQ=WEEKLY;UNTIL=20260425T000000Z
DTSTART;TZID=America/Phoenix:20260102T104500
DTEND;TZID=America/Phoenix:20260102T111500
X-ALT-DESC;FMTTYPE=TEXT/HTML:
CATEGORIES:Tai Chi Intermediate
URL;VALUE=URI:https://gvrtaichiarts.com/mc-events/intermediate-tai-chi-yang
 -24-form-3/?mc_id=1459
METHOD:PUBLISH
END:VEVENT
END:VCALENDAR