BEGIN:VCALENDAR
VERSION:2.0
PRODID:spatie/icalendar-generator
DESCRIPTION:Events from Tai Chi Arts Club
X-WR-CALDESC:Events from Tai Chi Arts Club
REFRESH-INTERVAL;VALUE=DURATION:PT1440M
X-PUBLISHED-TTL:PT1440M
BEGIN:VTIMEZONE
TZID:America/Phoenix
BEGIN:STANDARD
DTSTART:20250725T093000Z
TZOFFSETFROM:-0700
TZOFFSETTO:-0700
END:STANDARD
END:VTIMEZONE
BEGIN:VTIMEZONE
TZID:UTC
BEGIN:STANDARD
DTSTART:20250727T161429Z
TZOFFSETFROM:+0000
TZOFFSETTO:+0000
END:STANDARD
END:VTIMEZONE
BEGIN:VEVENT
UID:1523-90
DTSTAMP:20260423T161429Z
SUMMARY:Experienced Tai Chi Yang 24 Form
LOCATION:Santa Rita Springs\, Anza Room 921 W. Via Fuete
ORGANIZER;CN=Frank Gemma:MAILTO:fpgemma@gmail.com
RRULE:FREQ=WEEKLY;UNTIL=20260429T000000Z
DTSTART;TZID=America/Phoenix:20260421T093000
DTEND;TZID=America/Phoenix:20260421T110000
X-ALT-DESC;FMTTYPE=TEXT/HTML:Various Advanced Yang Training. This session i
 s for those people that desire to take their Tai Chi Training to a differe
 nt level.
CATEGORIES:Tai Chi Advanced
URL;VALUE=URI:https://gvrtaichiarts.com/mc-events/experienced-tai-chi-yang-
 24-form/?mc_id=1523
METHOD:PUBLISH
END:VEVENT
END:VCALENDAR