BEGIN:VCALENDAR
VERSION:2.0
PRODID:spatie/icalendar-generator
DESCRIPTION:Events from Tai Chi Arts Club
X-WR-CALDESC:Events from Tai Chi Arts Club
REFRESH-INTERVAL;VALUE=DURATION:PT1440M
X-PUBLISHED-TTL:PT1440M
BEGIN:VTIMEZONE
TZID:America/Phoenix
BEGIN:STANDARD
DTSTART:20250802T140000Z
TZOFFSETFROM:-0700
TZOFFSETTO:-0700
END:STANDARD
END:VTIMEZONE
BEGIN:VTIMEZONE
TZID:UTC
BEGIN:STANDARD
DTSTART:20250727T161332Z
TZOFFSETFROM:+0000
TZOFFSETTO:+0000
END:STANDARD
END:VTIMEZONE
BEGIN:VEVENT
UID:1659-112
DTSTAMP:20260423T161332Z
SUMMARY:Intermediate Tai Chi Yang 24 Form
LOCATION:Santa Rita Springs\, Anza Room 921 W. Via Fuete
ORGANIZER;CN=Frank Gemma:MAILTO:fpgemma@gmail.com
RRULE:FREQ=WEEKLY;UNTIL=20260430T000000Z
DTSTART;TZID=America/Phoenix:20260429T140000
DTEND;TZID=America/Phoenix:20260429T150000
X-ALT-DESC;FMTTYPE=TEXT/HTML:
CATEGORIES:Tai Chi Intermediate
URL;VALUE=URI:https://gvrtaichiarts.com/mc-events/intermediate-tai-chi-yang
 -24-form-2/?mc_id=1659
METHOD:PUBLISH
END:VEVENT
END:VCALENDAR